BEGIN:VCALENDAR
VERSION:2.0
PRODID:-//Luis Fernando Madrid - ECPv6.15.20//NONSGML v1.0//EN
CALSCALE:GREGORIAN
METHOD:PUBLISH
X-WR-CALNAME:Luis Fernando Madrid
X-ORIGINAL-URL:https://www.luisfernandomadrid.com
X-WR-CALDESC:Events for Luis Fernando Madrid
REFRESH-INTERVAL;VALUE=DURATION:PT1H
X-Robots-Tag:noindex
X-PUBLISHED-TTL:PT1H
BEGIN:VTIMEZONE
TZID:UTC
BEGIN:STANDARD
TZOFFSETFROM:+0000
TZOFFSETTO:+0000
TZNAME:UTC
DTSTART:20140101T000000
END:STANDARD
END:VTIMEZONE
BEGIN:VEVENT
DTSTART;TZID=UTC:20171028T183000
DTEND;TZID=UTC:20171028T203000
DTSTAMP:20260423T081453
CREATED:20170905T235713Z
LAST-MODIFIED:20170906T000001Z
UID:262-1509215400-1509222600@www.luisfernandomadrid.com
SUMMARY:Sydney Virtuosi Orchestra
DESCRIPTION:Description of Program to go here …
URL:https://www.luisfernandomadrid.com/event/sydney-virtuosi-orchestra/
LOCATION:ABC Studios Ultimo\, 700 Harris Street\, Ultimo\, NSW\, 2007\, Australia
ATTACH;FMTTYPE=image/png:https://www.luisfernandomadrid.com/wp-content/uploads/2016/09/SVO-120-logo.png
END:VEVENT
BEGIN:VEVENT
DTSTART;TZID=UTC:20151126T193000
DTEND;TZID=UTC:20151126T210000
DTSTAMP:20260423T081453
CREATED:20151014T002716Z
LAST-MODIFIED:20151119T033758Z
UID:148-1448566200-1448571600@www.luisfernandomadrid.com
SUMMARY:Glinka & Tchaikovsky
DESCRIPTION:Notes: Dates are tentative\, confirmation of the date with be forthcoming. \nProgram:\n\nGlinka Overture to Ruslan and Ludmila\nTchaikovsky Violin Concerto in D Major op. 35\nTchaikovsky Symphony No. 5 in E Minor op. 64\n\nSoloist: Alex Chiu\nConductor: Luis Fernando Madrid
URL:https://www.luisfernandomadrid.com/event/glinka-tchaikovsky/
LOCATION:Sydney Conservatorium of Music\, Conservatorium Road\, Sydney\, NSW\, 2000\, Australia
CATEGORIES:Concert Series
ATTACH;FMTTYPE=image/jpeg:https://www.luisfernandomadrid.com/wp-content/uploads/2015/10/Alexander-Chiu-Luis.jpg
END:VEVENT
END:VCALENDAR