BEGIN:VCALENDAR
VERSION:2.0
PRODID:-//Luis Fernando Madrid - ECPv6.15.20//NONSGML v1.0//EN
CALSCALE:GREGORIAN
METHOD:PUBLISH
X-WR-CALNAME:Luis Fernando Madrid
X-ORIGINAL-URL:https://www.luisfernandomadrid.com
X-WR-CALDESC:Events for Luis Fernando Madrid
REFRESH-INTERVAL;VALUE=DURATION:PT1H
X-Robots-Tag:noindex
X-PUBLISHED-TTL:PT1H
BEGIN:VTIMEZONE
TZID:UTC
BEGIN:STANDARD
TZOFFSETFROM:+0000
TZOFFSETTO:+0000
TZNAME:UTC
DTSTART:20240101T000000
END:STANDARD
END:VTIMEZONE
BEGIN:VEVENT
DTSTART;TZID=UTC:20251016T080000
DTEND;TZID=UTC:20251018T170000
DTSTAMP:20260423T063214
CREATED:20260201T025653Z
LAST-MODIFIED:20260201T025742Z
UID:653-1760601600-1760806800@www.luisfernandomadrid.com
SUMMARY:Donizetti - Rita
DESCRIPTION:Rita\nDeux Hommes et une femme (Two Men and a Woman)  \nComposed by Gaetano Donizetti (1797 –1848) \nXXVIII Ópera al Parque \nMusical Director: Luis Fernando Madrid \nOrquesta Filarmónica Juvenil de Cámara \nIn collaboration with the Camarín del Carmen \nFoundation and the Colombian Opera \n\n\nÓpera – Rita
URL:https://www.luisfernandomadrid.com/event/donizetti-rita/
END:VEVENT
BEGIN:VEVENT
DTSTART;TZID=UTC:20261205T000000
DTEND;TZID=UTC:20261206T235900
DTSTAMP:20260423T063214
CREATED:20260201T024834Z
LAST-MODIFIED:20260201T024834Z
UID:635-1796428800-1796601540@www.luisfernandomadrid.com
SUMMARY:Woollahra Philharmonic Orchestra
DESCRIPTION:PEARL ANNIVERSARY \n30 YEARS OF MUSIC  \nOF INVENTION \n PROGRAM \nIBERT                  Hommage à Mozart\nRODRIGO           Concierto de Aranjuez\nBEETHOVEN     Symphony 6 – Pastoral \nConductor     Luis Fernando Madrid\nHarp                Verna Lee-Brown \nCONCERT DATES \nSaturday      5 December 2026 – 5.30pm\nSunday         6 December 2026 – 2.30pm \n VUENE \nSAINT COLUMBA CHURCH\nThe Home of Uniting Heart\n& Soul Corners Forth & Ocean St Woollahra \nhttps://wpo.org.au/concerts
URL:https://www.luisfernandomadrid.com/event/woollahra-philharmonic-orchestra/
LOCATION:SAINT COLUMBA CHURCH
CATEGORIES:Beethoven,Classical,Concert Series,Opera,orchestra,Rodrigo,Sydney Virtuosi Orchestra,Symphonic Music,Youth Orchestra
END:VEVENT
END:VCALENDAR