BEGIN:VCALENDAR
VERSION:2.0
PRODID:-//Luis Fernando Madrid - ECPv6.15.20//NONSGML v1.0//EN
CALSCALE:GREGORIAN
METHOD:PUBLISH
X-WR-CALNAME:Luis Fernando Madrid
X-ORIGINAL-URL:https://www.luisfernandomadrid.com
X-WR-CALDESC:Events for Luis Fernando Madrid
REFRESH-INTERVAL;VALUE=DURATION:PT1H
X-Robots-Tag:noindex
X-PUBLISHED-TTL:PT1H
BEGIN:VTIMEZONE
TZID:UTC
BEGIN:STANDARD
TZOFFSETFROM:+0000
TZOFFSETTO:+0000
TZNAME:UTC
DTSTART:20140101T000000
END:STANDARD
END:VTIMEZONE
BEGIN:VEVENT
DTSTART;VALUE=DATE:20240317
DTEND;VALUE=DATE:20240318
DTSTAMP:20260423T081816
CREATED:20231207T225048Z
LAST-MODIFIED:20231207T231233Z
UID:458-1710633600-1710719999@www.luisfernandomadrid.com
SUMMARY:Orquesta Filarmónica de Bogotá
DESCRIPTION:17 March – Orquesta Filarmónica de Bogotá \n  \nConductor \nDr. Luis Fernando Madrid \nProgram:\nAndrés A Sánchez Angarita (Colombia)\nTierras Olvidads (2013)\nSeis Narraciones rítmicas para orquesta \nMaurice Ravel\nMa mère l’Oye (1911) \nGeorges Bizet\nSymphony in C (1855) \nDate:\nSunday 17 March 2024 \nVenue:\nTeatro Mayor Julio Mario Santo Domingo \nOrquesta Filarmónica de Bogotá
URL:https://www.luisfernandomadrid.com/event/17-march/
LOCATION:Teatro Mayor Julio Mario Santo Domingo
CATEGORIES:Classical,Concert Series,orchestra,Symphonic Music
ATTACH;FMTTYPE=image/jpeg:https://www.luisfernandomadrid.com/wp-content/uploads/2017/09/Luis-Fernando-Madrid-Conductor.jpg
END:VEVENT
BEGIN:VEVENT
DTSTART;VALUE=DATE:20240316
DTEND;VALUE=DATE:20240317
DTSTAMP:20260423T081816
CREATED:20231207T225048Z
LAST-MODIFIED:20231207T232314Z
UID:351-1710547200-1710633599@www.luisfernandomadrid.com
SUMMARY:Orquesta Filarmónica de Bogotá
DESCRIPTION:Saturday 16 March – Orquesta Filarmónica de Bogotá \nConductor:\nDr. Luis Fernando Madrid \nConductor:\nAndrés A Sánchez Angarita (Colombia)\nTierras Olvidads (2013)\nSeis Narraciones rítmicas para orquesta \nMaurice Ravel\nMa mère l’Oye (1911) \nGeorges Bizet\nSymphony in C (1855) \nDate:\nSaturday 16 March 2024 \nOrquesta Filarmónica de Bogotá
URL:https://www.luisfernandomadrid.com/event/16-march/
ATTACH;FMTTYPE=image/jpeg:https://www.luisfernandomadrid.com/wp-content/uploads/2015/07/Luis-closeup.jpg
END:VEVENT
BEGIN:VEVENT
DTSTART;VALUE=DATE:20240315
DTEND;VALUE=DATE:20240316
DTSTAMP:20260423T081816
CREATED:20231207T225048Z
LAST-MODIFIED:20231207T231403Z
UID:447-1710460800-1710547199@www.luisfernandomadrid.com
SUMMARY:Orquesta Filarmónica de Bogotá
DESCRIPTION:Friday 15 March – \n  \nProgram:\nAndrés A Sánchez Angarita (Colombia)\nTierras Olvidads (2013)\nSeis Narraciones rítmicas para orquesta \nMaurice Ravel\nMa mère l’Oye (1911) \nGeorges Bizet\nSymphony in C (1855) \nDate:\nFriday 15 March 2024 \nOrquesta Filarmónica de Bogotá
URL:https://www.luisfernandomadrid.com/event/15-march-ofb/
CATEGORIES:Classical,Concert Series,orchestra,Symphonic Music
ATTACH;FMTTYPE=image/jpeg:https://www.luisfernandomadrid.com/wp-content/uploads/2023/11/CL139315-scaled.jpg
END:VEVENT
BEGIN:VEVENT
DTSTART;TZID=UTC:20231217T080000
DTEND;TZID=UTC:20231217T170000
DTSTAMP:20260423T081816
CREATED:20231110T001103Z
LAST-MODIFIED:20231207T234924Z
UID:328-1702800000-1702832400@www.luisfernandomadrid.com
SUMMARY:Orquesta Philharmonia de Bolivar
DESCRIPTION:Fundación Sinfónica Alpha \nOrquesta Philharmonia de Bolivar
URL:https://www.luisfernandomadrid.com/event/orquesta-philharmonia-de-bolivar/
CATEGORIES:Classical,Concert Series,orchestra,Symphonic Music
ATTACH;FMTTYPE=image/jpeg:https://www.luisfernandomadrid.com/wp-content/uploads/2023/12/Luis-sq-bw.jpg
END:VEVENT
BEGIN:VEVENT
DTSTART;TZID=UTC:20230928T080000
DTEND;TZID=UTC:20230929T170000
DTSTAMP:20260423T081816
CREATED:20231128T092104Z
LAST-MODIFIED:20231128T092104Z
UID:371-1695888000-1696006800@www.luisfernandomadrid.com
SUMMARY:Conducting Workshop
DESCRIPTION:
URL:https://www.luisfernandomadrid.com/event/conducting-workshop/
CATEGORIES:Classical,Concert Series,Symphonic Music
END:VEVENT
BEGIN:VEVENT
DTSTART;TZID=UTC:20171228T193000
DTEND;TZID=UTC:20171228T193000
DTSTAMP:20260423T081816
CREATED:20170906T010418Z
LAST-MODIFIED:20170915T064032Z
UID:273-1514489400-1514489400@www.luisfernandomadrid.com
SUMMARY:Fundacion Tocando Puertas
DESCRIPTION:Details here
URL:https://www.luisfernandomadrid.com/event/fundacion-tocando-puertas/
CATEGORIES:Classical,Concert Series,Symphonic Music,Youth Orchestra
END:VEVENT
BEGIN:VEVENT
DTSTART;TZID=UTC:20171210T160000
DTEND;TZID=UTC:20171210T160000
DTSTAMP:20260423T081816
CREATED:20170906T000520Z
LAST-MODIFIED:20170915T003419Z
UID:268-1512921600-1512921600@www.luisfernandomadrid.com
SUMMARY:Macquarie Town Orchestra - Richmond
DESCRIPTION:Description
URL:https://www.luisfernandomadrid.com/event/macquarie-town-orchestra-richmond/
CATEGORIES:Classical,Symphonic Music
ATTACH;FMTTYPE=image/jpeg:https://www.luisfernandomadrid.com/wp-content/uploads/2017/09/Macquarie-Town-Orchestra.jpg
END:VEVENT
BEGIN:VEVENT
DTSTART;TZID=UTC:20171103T193000
DTEND;TZID=UTC:20171103T193000
DTSTAMP:20260423T081816
CREATED:20170906T000254Z
LAST-MODIFIED:20170915T003925Z
UID:266-1509737400-1509737400@www.luisfernandomadrid.com
SUMMARY:SVO at Verbrugghen Hall
DESCRIPTION:Description …
URL:https://www.luisfernandomadrid.com/event/svo-at-verbrugghen-hall/
LOCATION:Sydney Conservatorium of Music\, Conservatorium Road\, Sydney\, NSW\, 2000\, Australia
CATEGORIES:Sydney Virtuosi Orchestra
ATTACH;FMTTYPE=image/png:https://www.luisfernandomadrid.com/wp-content/uploads/2016/09/SVO-120-logo.png
END:VEVENT
BEGIN:VEVENT
DTSTART;TZID=UTC:20171028T183000
DTEND;TZID=UTC:20171028T203000
DTSTAMP:20260423T081816
CREATED:20170905T235713Z
LAST-MODIFIED:20170906T000001Z
UID:262-1509215400-1509222600@www.luisfernandomadrid.com
SUMMARY:Sydney Virtuosi Orchestra
DESCRIPTION:Description of Program to go here …
URL:https://www.luisfernandomadrid.com/event/sydney-virtuosi-orchestra/
LOCATION:ABC Studios Ultimo\, 700 Harris Street\, Ultimo\, NSW\, 2007\, Australia
ATTACH;FMTTYPE=image/png:https://www.luisfernandomadrid.com/wp-content/uploads/2016/09/SVO-120-logo.png
END:VEVENT
BEGIN:VEVENT
DTSTART;TZID=UTC:20151126T193000
DTEND;TZID=UTC:20151126T210000
DTSTAMP:20260423T081816
CREATED:20151014T002716Z
LAST-MODIFIED:20151119T033758Z
UID:148-1448566200-1448571600@www.luisfernandomadrid.com
SUMMARY:Glinka & Tchaikovsky
DESCRIPTION:Notes: Dates are tentative\, confirmation of the date with be forthcoming. \nProgram:\n\nGlinka Overture to Ruslan and Ludmila\nTchaikovsky Violin Concerto in D Major op. 35\nTchaikovsky Symphony No. 5 in E Minor op. 64\n\nSoloist: Alex Chiu\nConductor: Luis Fernando Madrid
URL:https://www.luisfernandomadrid.com/event/glinka-tchaikovsky/
LOCATION:Sydney Conservatorium of Music\, Conservatorium Road\, Sydney\, NSW\, 2000\, Australia
CATEGORIES:Concert Series
ATTACH;FMTTYPE=image/jpeg:https://www.luisfernandomadrid.com/wp-content/uploads/2015/10/Alexander-Chiu-Luis.jpg
END:VEVENT
END:VCALENDAR