BEGIN:VCALENDAR
VERSION:2.0
PRODID:-//Luis Fernando Madrid - ECPv6.15.20//NONSGML v1.0//EN
CALSCALE:GREGORIAN
METHOD:PUBLISH
X-ORIGINAL-URL:https://www.luisfernandomadrid.com
X-WR-CALDESC:Events for Luis Fernando Madrid
REFRESH-INTERVAL;VALUE=DURATION:PT1H
X-Robots-Tag:noindex
X-PUBLISHED-TTL:PT1H
BEGIN:VTIMEZONE
TZID:UTC
BEGIN:STANDARD
TZOFFSETFROM:+0000
TZOFFSETTO:+0000
TZNAME:UTC
DTSTART:20230101T000000
END:STANDARD
END:VTIMEZONE
BEGIN:VEVENT
DTSTART;VALUE=DATE:20240322
DTEND;VALUE=DATE:20240323
DTSTAMP:20260423T044325
CREATED:20231207T225048Z
LAST-MODIFIED:20231207T235019Z
UID:466-1711065600-1711151999@www.luisfernandomadrid.com
SUMMARY:Orquesta Filarmónica de Bogotá
DESCRIPTION:Friday 22 March – Orquesta Filarmónica de Bogotá \n \nDr. Luis Fernando Madrid \nProgram: \n\nFrancisco Zumaque (1945 – ) Colombia\nToccata Rústica (1979)\nLalo\, Édouard (1823 – 1892)\nCello Concerto in D minor\n\nSoloist: Santiago Canon – Cello \n\nRobert Schumann (1810 – 1856)\nSymphony No. 3\, in E-flat major\, Op. 97\, "Rhenish"\n\nDates:\n22 March 2024 \nOrquesta Filarmónica de Bogotá
URL:https://www.luisfernandomadrid.com/event/22-march/
CATEGORIES:Classical,Concert Series,orchestra,Symphonic Music
ATTACH;FMTTYPE=image/jpeg:https://www.luisfernandomadrid.com/wp-content/uploads/2015/07/Luis-sitting.jpg
END:VEVENT
END:VCALENDAR