BEGIN:VCALENDAR
VERSION:2.0
PRODID:-//Luis Fernando Madrid - ECPv6.15.20//NONSGML v1.0//EN
CALSCALE:GREGORIAN
METHOD:PUBLISH
X-WR-CALNAME:Luis Fernando Madrid
X-ORIGINAL-URL:https://www.luisfernandomadrid.com
X-WR-CALDESC:Events for Luis Fernando Madrid
REFRESH-INTERVAL;VALUE=DURATION:PT1H
X-Robots-Tag:noindex
X-PUBLISHED-TTL:PT1H
BEGIN:VTIMEZONE
TZID:UTC
BEGIN:STANDARD
TZOFFSETFROM:+0000
TZOFFSETTO:+0000
TZNAME:UTC
DTSTART:20230101T000000
END:STANDARD
END:VTIMEZONE
BEGIN:VEVENT
DTSTART;VALUE=DATE:20240316
DTEND;VALUE=DATE:20240317
DTSTAMP:20260423T044158
CREATED:20231207T225048Z
LAST-MODIFIED:20231207T232314Z
UID:351-1710547200-1710633599@www.luisfernandomadrid.com
SUMMARY:Orquesta Filarmónica de Bogotá
DESCRIPTION:Saturday 16 March – Orquesta Filarmónica de Bogotá \nConductor:\nDr. Luis Fernando Madrid \nConductor:\nAndrés A Sánchez Angarita (Colombia)\nTierras Olvidads (2013)\nSeis Narraciones rítmicas para orquesta \nMaurice Ravel\nMa mère l’Oye (1911) \nGeorges Bizet\nSymphony in C (1855) \nDate:\nSaturday 16 March 2024 \nOrquesta Filarmónica de Bogotá
URL:https://www.luisfernandomadrid.com/event/16-march/
ATTACH;FMTTYPE=image/jpeg:https://www.luisfernandomadrid.com/wp-content/uploads/2015/07/Luis-closeup.jpg
END:VEVENT
END:VCALENDAR